BEGIN:VCALENDAR
VERSION:2.0
PRODID:-//Chorley SSP - ECPv6.15.17//NONSGML v1.0//EN
CALSCALE:GREGORIAN
METHOD:PUBLISH
X-WR-CALNAME:Chorley SSP
X-ORIGINAL-URL:https://www.chorleyssp.co.uk
X-WR-CALDESC:Events for Chorley SSP
REFRESH-INTERVAL;VALUE=DURATION:PT1H
X-Robots-Tag:noindex
X-PUBLISHED-TTL:PT1H
BEGIN:VTIMEZONE
TZID:Europe/London
BEGIN:DAYLIGHT
TZOFFSETFROM:+0000
TZOFFSETTO:+0100
TZNAME:BST
DTSTART:20250330T010000
END:DAYLIGHT
BEGIN:STANDARD
TZOFFSETFROM:+0100
TZOFFSETTO:+0000
TZNAME:GMT
DTSTART:20251026T010000
END:STANDARD
BEGIN:DAYLIGHT
TZOFFSETFROM:+0000
TZOFFSETTO:+0100
TZNAME:BST
DTSTART:20260329T010000
END:DAYLIGHT
BEGIN:STANDARD
TZOFFSETFROM:+0100
TZOFFSETTO:+0000
TZNAME:GMT
DTSTART:20261025T010000
END:STANDARD
BEGIN:DAYLIGHT
TZOFFSETFROM:+0000
TZOFFSETTO:+0100
TZNAME:BST
DTSTART:20270328T010000
END:DAYLIGHT
BEGIN:STANDARD
TZOFFSETFROM:+0100
TZOFFSETTO:+0000
TZNAME:GMT
DTSTART:20271031T010000
END:STANDARD
END:VTIMEZONE
BEGIN:VEVENT
DTSTART;TZID=Europe/London:20260422T153000
DTEND;TZID=Europe/London:20260422T180000
DTSTAMP:20260422T015100
CREATED:20260409T133801Z
LAST-MODIFIED:20260409T133801Z
UID:9332-1776871800-1776880800@www.chorleyssp.co.uk
SUMMARY:Leadership - Bee Stingers Netball League
DESCRIPTION:Objective:\nDevelop leadership\, character\, life skills \nCreate positive experiences \nBuild social skills and connection \nImprove knowledge and understanding of sport and physical activity \nTarget Audience: \nLeaders that would like to help CSSP staff run the Netball League\, roles include umpiring\, manning lines and scorers. \nEvent Format: \n\nPupils will compete against other schools. 🏆\nAll equipment will be provided\, and the competition will be run by qualified CSSP staff\n\nLogistics: \n\nLeaders should wear trainers. \nA water bottle is required. Under NO circumstances may energy drinks & juice be brought onto the courts \nSchool PE kit to be worn.\nLeaders are responsible for their own transport.
URL:https://www.chorleyssp.co.uk/event/leadership-bee-stingers-netball-league-2/
LOCATION:Albany Academy\, A6 Bolton road\, Chorley\, PR7 3AY\, United Kingdom
ATTACH;FMTTYPE=image/jpeg:https://www.chorleyssp.co.uk/wp-content/uploads/2026/03/Netball-Competition.jpg
ORGANIZER;CN="Chorley SSP Competitions":MAILTO:m.brindle@chorleyssp.co.uk
END:VEVENT
BEGIN:VEVENT
DTSTART;TZID=Europe/London:20260422T160000
DTEND;TZID=Europe/London:20260422T180000
DTSTAMP:20260422T015100
CREATED:20250909T134104Z
LAST-MODIFIED:20260312T113558Z
UID:6201-1776873600-1776880800@www.chorleyssp.co.uk
SUMMARY:KS2 Netball League (Wednesday)
DESCRIPTION:Dates : \n22nd April \n29th April \n6th May \n13th May \nFinal : \n21st May \n  \nObjective:\nPromote success and achievement \nTarget Audience: \nChildren that want to play netball for their school team in a competitive environment 🏐 \nPlease select pupils who: \n\n\n\nHave an understanding of the netball rules.\nWill represent the school in a mature and respectful manner.\n\n\n\nEvent Format: \n\nPupils will compete against other schools in a league style format.\nThe top teams in each pools will qualify for the final 🏆\nAll equipment will be provided\, and the competition will be run by qualified CSSP staff\n\nLogistics: \n\nPupils should wear trainers.\nA water bottle is required. Under NO circumstances may energy drinks & juice be brought onto the courts 💦\nTeams should bring their own netball to warm up with.\nNetball bibs MUST be worn.\nSchool PE kit to be worn.\nSchools are responsible for their own transport and supervision.\n\nKey Outcomes: \n\nExperiencing a competition environment.\nEncourage teamwork and resilience.\nShow respect to all others involved.\n\n 
URL:https://www.chorleyssp.co.uk/event/ks2-netball-league-wednesday/
LOCATION:Holy Cross High School\, Myles Standish Way\, Chorley\, PR7 3LS\, United Kingdom
ORGANIZER;CN="Chorley SSP Competitions":MAILTO:m.brindle@chorleyssp.co.uk
END:VEVENT
END:VCALENDAR